BEGIN:VCALENDAR
VERSION:2.0
PRODID:-//My Calendar//http://www.joedolson.com//v3.0.15//EN
METHOD:PUBLISH
CALSCALE:GREGORIAN
X-WR-CALNAME:Te Hora Marae
X-PUBLISHED-TTL:PT24H
REFRESH-INTERVAL;VALUE=DURATION:PT24H
X-WR-CALDESC:Events from Te Hora Marae
BEGIN:VEVENT
UID:189-172
LOCATION:
SUMMARY:Te Hoiere Project
DTSTAMP:20201201T110000Z
ORGANIZER;CN=Te_Hora_Admin:MAILTO:billy@ngatikuia.iwi.nz
DTSTART;TZID=Pacific/Auckland:20201201T110000Z
DTEND;TZID=Pacific/Auckland:20201203T110000
URL;VALUE=URI:http://www.tehoramarae.co.nz/my-calendar/
DESCRIPTION:Wananga 
CATEGORIES:General
X-FUNAMBOL-ALLDAY: 1
X-MICROSOFT-CDO-ALLDAYEVENT: TRUE

END:VEVENT
BEGIN:VEVENT
UID:188-171
LOCATION:
SUMMARY:Ngati Kuia Board Hui
DTSTAMP:20210212T200000Z
ORGANIZER;CN=Te_Hora_Admin:MAILTO:billy@ngatikuia.iwi.nz
DTSTART;TZID=Pacific/Auckland:20210212T200000Z
DTEND;TZID=Pacific/Auckland:20210213T030000Z
URL;VALUE=URI:http://www.tehoramarae.co.nz/my-calendar/
DESCRIPTION:Board Hui 
CATEGORIES:General
END:VEVENT
BEGIN:VEVENT
UID:187-170
LOCATION:
SUMMARY:Prep Day
DTSTAMP:20201217T110000Z
ORGANIZER;CN=Te_Hora_Admin:MAILTO:billy@ngatikuia.iwi.nz
DTSTART;TZID=Pacific/Auckland:20201217T110000Z
DTEND;TZID=Pacific/Auckland:20201218T110000
URL;VALUE=URI:http://www.tehoramarae.co.nz/my-calendar/
DESCRIPTION:Prepare for following day 
CATEGORIES:General
X-FUNAMBOL-ALLDAY: 1
X-MICROSOFT-CDO-ALLDAYEVENT: TRUE

END:VEVENT
BEGIN:VEVENT
UID:186-169
LOCATION:
SUMMARY:Ngati Kuia Kids Christmas Party
DTSTAMP:20201218T210000Z
ORGANIZER;CN=Te_Hora_Admin:MAILTO:billy@ngatikuia.iwi.nz
DTSTART;TZID=Pacific/Auckland:20201218T210000Z
DTEND;TZID=Pacific/Auckland:20201219T020000Z
URL;VALUE=URI:http://www.tehoramarae.co.nz/my-calendar/
DESCRIPTION:Kids  christmas Party 
CATEGORIES:General
END:VEVENT
BEGIN:VEVENT
UID:185-168
LOCATION:
SUMMARY:Prep Day
DTSTAMP:20201209T110000Z
ORGANIZER;CN=Te_Hora_Admin:MAILTO:billy@ngatikuia.iwi.nz
DTSTART;TZID=Pacific/Auckland:20201209T110000Z
DTEND;TZID=Pacific/Auckland:20201210T110000
URL;VALUE=URI:http://www.tehoramarae.co.nz/my-calendar/
DESCRIPTION:Prep for following day 
CATEGORIES:General
X-FUNAMBOL-ALLDAY: 1
X-MICROSOFT-CDO-ALLDAYEVENT: TRUE

END:VEVENT
BEGIN:VEVENT
UID:184-167
LOCATION:
SUMMARY:Ngati Kuia Kaumatua Lunch
DTSTAMP:20201210T110000Z
ORGANIZER;CN=Te_Hora_Admin:MAILTO:billy@ngatikuia.iwi.nz
DTSTART;TZID=Pacific/Auckland:20201210T110000Z
DTEND;TZID=Pacific/Auckland:20201211T110000
URL;VALUE=URI:http://www.tehoramarae.co.nz/my-calendar/
DESCRIPTION:Kaumatua Lunch 
CATEGORIES:General
X-FUNAMBOL-ALLDAY: 1
X-MICROSOFT-CDO-ALLDAYEVENT: TRUE

END:VEVENT
BEGIN:VEVENT
UID:183-166
LOCATION:
SUMMARY:NMIT
DTSTAMP:20201113T050000Z
ORGANIZER;CN=Te_Hora_Admin:MAILTO:billy@ngatikuia.iwi.nz
DTSTART;TZID=Pacific/Auckland:20201113T050000Z
DTEND;TZID=Pacific/Auckland:20201115T050000Z
URL;VALUE=URI:http://www.tehoramarae.co.nz/my-calendar/
DESCRIPTION:Lelel 1 Reo WanangaContact: CamilleNumbers: 50 
CATEGORIES:General
END:VEVENT
BEGIN:VEVENT
UID:181-165
LOCATION:
SUMMARY:Te Atapo-Matike Mai
DTSTAMP:20210430T120000Z
ORGANIZER;CN=Te_Hora_Admin:MAILTO:billy@ngatikuia.iwi.nz
DTSTART;TZID=Pacific/Auckland:20210430T120000Z
DTEND;TZID=Pacific/Auckland:20210502T120000
URL;VALUE=URI:http://www.tehoramarae.co.nz/my-calendar/
DESCRIPTION:Ko Nga Kawenga a Te Tangata ki runga Marae 
CATEGORIES:General
X-FUNAMBOL-ALLDAY: 1
X-MICROSOFT-CDO-ALLDAYEVENT: TRUE

END:VEVENT
BEGIN:VEVENT
UID:180-164
LOCATION:
SUMMARY:Te Pitau Whakarei
DTSTAMP:20201105T110000Z
ORGANIZER;CN=Te_Hora_Admin:MAILTO:billy@ngatikuia.iwi.nz
DTSTART;TZID=Pacific/Auckland:20201105T110000Z
DTEND;TZID=Pacific/Auckland:20201107T110000
URL;VALUE=URI:http://www.tehoramarae.co.nz/my-calendar/
DESCRIPTION:Kapa Haka WanangaContact: Tommy AlesanaNumbers: 50 
CATEGORIES:General
X-FUNAMBOL-ALLDAY: 1
X-MICROSOFT-CDO-ALLDAYEVENT: TRUE

END:VEVENT
BEGIN:VEVENT
UID:179-163
LOCATION:
SUMMARY:Hura Kohatu
DTSTAMP:20201203T110000Z
ORGANIZER;CN=Te_Hora_Admin:MAILTO:billy@ngatikuia.iwi.nz
DTSTART;TZID=Pacific/Auckland:20201203T110000Z
DTEND;TZID=Pacific/Auckland:20201206T110000
URL;VALUE=URI:http://www.tehoramarae.co.nz/my-calendar/
DESCRIPTION: 
CATEGORIES:General
X-FUNAMBOL-ALLDAY: 1
X-MICROSOFT-CDO-ALLDAYEVENT: TRUE

END:VEVENT
BEGIN:VEVENT
UID:182-162
LOCATION:
SUMMARY:NMIT
DTSTAMP:20201109T000000Z
ORGANIZER;CN=Te_Hora_Admin:MAILTO:billy@ngatikuia.iwi.nz
DTSTART;TZID=Pacific/Auckland:20201109T000000Z
DTEND;TZID=Pacific/Auckland:20201112T000000Z
URL;VALUE=URI:http://www.tehoramarae.co.nz/my-calendar/
DESCRIPTION:AVT WanangaNumbers-40Contact-Craig Shepard 
CATEGORIES:General
END:VEVENT
BEGIN:VEVENT
UID:177-161
LOCATION:
SUMMARY:Te Rito Maioha Wananga
DTSTAMP:20200922T210000Z
ORGANIZER;CN=Te_Hora_Admin:MAILTO:billy@ngatikuia.iwi.nz
DTSTART;TZID=Pacific/Auckland:20200922T210000Z
DTEND;TZID=Pacific/Auckland:20200924T040000Z
URL;VALUE=URI:http://www.tehoramarae.co.nz/my-calendar/
DESCRIPTION:Wananga for Staff and StudentsNumbers-20Contact-Sandra Tuhakaraina 
CATEGORIES:General
END:VEVENT
BEGIN:VEVENT
UID:175-159
LOCATION:
SUMMARY:Te Atapo-Matike Mai
DTSTAMP:20210507T210000Z
ORGANIZER;CN=Te_Hora_Admin:MAILTO:billy@ngatikuia.iwi.nz
DTSTART;TZID=Pacific/Auckland:20210507T210000Z
DTEND;TZID=Pacific/Auckland:20210509T003000Z
URL;VALUE=URI:http://www.tehoramarae.co.nz/my-calendar/
DESCRIPTION:Nga kawenga a te tangata ki runga marae WanangaNumbers-30Contact-Keri Takao 
CATEGORIES:General
END:VEVENT
BEGIN:VEVENT
UID:174-158
LOCATION:
SUMMARY:Te Ataarangi
DTSTAMP:20200814T210000Z
ORGANIZER;CN=Te_Hora_Admin:MAILTO:billy@ngatikuia.iwi.nz
DTSTART;TZID=Pacific/Auckland:20200814T210000Z
DTEND;TZID=Pacific/Auckland:20200817T020000Z
URL;VALUE=URI:http://www.tehoramarae.co.nz/my-calendar/
DESCRIPTION:Te Ataarangi Wananga Rumaki ReoNumbers-30 
CATEGORIES:General
END:VEVENT
BEGIN:VEVENT
UID:173-157
LOCATION:
SUMMARY:Ngati Kuia Weekend
DTSTAMP:20210203T110000Z
ORGANIZER;CN=Te_Hora_Admin:MAILTO:billy@ngatikuia.iwi.nz
DTSTART;TZID=Pacific/Auckland:20210203T110000Z
DTEND;TZID=Pacific/Auckland:20210209T110000
URL;VALUE=URI:http://www.tehoramarae.co.nz/my-calendar/
DESCRIPTION:Ngati Kuia CelebrationsContact-Lea Jane Hemi 
CATEGORIES:General
X-FUNAMBOL-ALLDAY: 1
X-MICROSOFT-CDO-ALLDAYEVENT: TRUE

END:VEVENT
BEGIN:VEVENT
UID:172-156
LOCATION:
SUMMARY:Whanau Reunion
DTSTAMP:20210114T110000Z
ORGANIZER;CN=Te_Hora_Admin:MAILTO:billy@ngatikuia.iwi.nz
DTSTART;TZID=Pacific/Auckland:20210114T110000Z
DTEND;TZID=Pacific/Auckland:20210118T110000
URL;VALUE=URI:http://www.tehoramarae.co.nz/my-calendar/
DESCRIPTION:Moses Whanau ReunionContact-Gena Moses-TeKani 
CATEGORIES:General
X-FUNAMBOL-ALLDAY: 1
X-MICROSOFT-CDO-ALLDAYEVENT: TRUE

END:VEVENT
BEGIN:VEVENT
UID:171-155
LOCATION:
SUMMARY:Whanau Reunion
DTSTAMP:20210331T110000Z
ORGANIZER;CN=Te_Hora_Admin:MAILTO:billy@ngatikuia.iwi.nz
DTSTART;TZID=Pacific/Auckland:20210331T110000Z
DTEND;TZID=Pacific/Auckland:20210404T120000
URL;VALUE=URI:http://www.tehoramarae.co.nz/my-calendar/
DESCRIPTION:Mason Whanau ReunionContact-Lee Mason 
CATEGORIES:General
X-FUNAMBOL-ALLDAY: 1
X-MICROSOFT-CDO-ALLDAYEVENT: TRUE

END:VEVENT
BEGIN:VEVENT
UID:170-154
LOCATION:
SUMMARY:Whanau Reunion
DTSTAMP:20211019T110000Z
ORGANIZER;CN=Te_Hora_Admin:MAILTO:billy@ngatikuia.iwi.nz
DTSTART;TZID=Pacific/Auckland:20211019T110000Z
DTEND;TZID=Pacific/Auckland:20211025T110000
URL;VALUE=URI:http://www.tehoramarae.co.nz/my-calendar/
DESCRIPTION:Nga Uri o Wiremu raua ko Rangitaiki Whanau Reunion 
CATEGORIES:General
X-FUNAMBOL-ALLDAY: 1
X-MICROSOFT-CDO-ALLDAYEVENT: TRUE

END:VEVENT
BEGIN:VEVENT
UID:169-153
LOCATION:
SUMMARY:Te Ataarangi
DTSTAMP:20200313T110000Z
ORGANIZER;CN=Te_Hora_Admin:MAILTO:billy@ngatikuia.iwi.nz
DTSTART;TZID=Pacific/Auckland:20200313T110000Z
DTEND;TZID=Pacific/Auckland:20200315T110000
URL;VALUE=URI:http://www.tehoramarae.co.nz/my-calendar/
DESCRIPTION:Noho MaraeNumbers: 30Contact: Anne harvey 
CATEGORIES:General
X-FUNAMBOL-ALLDAY: 1
X-MICROSOFT-CDO-ALLDAYEVENT: TRUE

END:VEVENT
BEGIN:VEVENT
UID:168-152
LOCATION:
SUMMARY:Te Rourou Kura
DTSTAMP:20200227T110000Z
ORGANIZER;CN=Te_Hora_Admin:MAILTO:billy@ngatikuia.iwi.nz
DTSTART;TZID=Pacific/Auckland:20200227T110000Z
DTEND;TZID=Pacific/Auckland:20200329T110000
URL;VALUE=URI:http://www.tehoramarae.co.nz/my-calendar/
DESCRIPTION:Noho MaraeNumbers: 60Contact: Apitoni 
CATEGORIES:General
X-FUNAMBOL-ALLDAY: 1
X-MICROSOFT-CDO-ALLDAYEVENT: TRUE

END:VEVENT
BEGIN:VEVENT
UID:167-151
LOCATION:
SUMMARY:Te Rourou Kura
DTSTAMP:20200409T043000Z
ORGANIZER;CN=Te_Hora_Admin:MAILTO:billy@ngatikuia.iwi.nz
DTSTART;TZID=Pacific/Auckland:20200409T043000Z
DTEND;TZID=Pacific/Auckland:20200410T050000Z
URL;VALUE=URI:http://www.tehoramarae.co.nz/my-calendar/
DESCRIPTION:Noho MaraeNumbers: 60Contact: Rowena Hart 
CATEGORIES:General
END:VEVENT
BEGIN:VEVENT
UID:166-150
LOCATION:
SUMMARY:Te Ata Hapara-Matike Mai
DTSTAMP:20200918T210000Z
ORGANIZER;CN=Te_Hora_Admin:MAILTO:billy@ngatikuia.iwi.nz
DTSTART;TZID=Pacific/Auckland:20200918T210000Z
DTEND;TZID=Pacific/Auckland:20200920T003000Z
URL;VALUE=URI:http://www.tehoramarae.co.nz/my-calendar/
DESCRIPTION:Nga Kawenga a te tangata WanangaNumbers: 25Contact: Keri Takao 
CATEGORIES:General
END:VEVENT
BEGIN:VEVENT
UID:165-149
LOCATION:
SUMMARY:Police Hui
DTSTAMP:20200426T210000Z
ORGANIZER;CN=Te_Hora_Admin:MAILTO:billy@ngatikuia.iwi.nz
DTSTART;TZID=Pacific/Auckland:20200426T210000Z
DTEND;TZID=Pacific/Auckland:20200427T030000Z
URL;VALUE=URI:http://www.tehoramarae.co.nz/my-calendar/
DESCRIPTION:HuiNumbers: 20Contact: Stephen Mariu 
CATEGORIES:General
END:VEVENT
BEGIN:VEVENT
UID:164-148
LOCATION:
SUMMARY:NMIT
DTSTAMP:20200524T120000Z
ORGANIZER;CN=Te_Hora_Admin:MAILTO:billy@ngatikuia.iwi.nz
DTSTART;TZID=Pacific/Auckland:20200524T120000Z
DTEND;TZID=Pacific/Auckland:20200527T120000
URL;VALUE=URI:http://www.tehoramarae.co.nz/my-calendar/
DESCRIPTION:Wananga ReoNumbers: TBCContact: Craig Shepard 
CATEGORIES:General
X-FUNAMBOL-ALLDAY: 1
X-MICROSOFT-CDO-ALLDAYEVENT: TRUE

END:VEVENT
BEGIN:VEVENT
UID:163-147
LOCATION:
SUMMARY:Whenua Iti Outdoors
DTSTAMP:20200614T230000Z
ORGANIZER;CN=Te_Hora_Admin:MAILTO:billy@ngatikuia.iwi.nz
DTSTART;TZID=Pacific/Auckland:20200614T230000Z
DTEND;TZID=Pacific/Auckland:20200618T000000Z
URL;VALUE=URI:http://www.tehoramarae.co.nz/my-calendar/
DESCRIPTION:Wananga MaraeNumbers: 20Contact: Ruth 
CATEGORIES:General
END:VEVENT
BEGIN:VEVENT
UID:162-146
LOCATION:
SUMMARY:Nayland Primary
DTSTAMP:20200327T210000Z
ORGANIZER;CN=Te_Hora_Admin:MAILTO:billy@ngatikuia.iwi.nz
DTSTART;TZID=Pacific/Auckland:20200327T210000Z
DTEND;TZID=Pacific/Auckland:20200328T220000Z
URL;VALUE=URI:http://www.tehoramarae.co.nz/my-calendar/
DESCRIPTION:Noho MaraeNumbers: 80Contact: Tamika Terei 
CATEGORIES:General
END:VEVENT
BEGIN:VEVENT
UID:161-145
LOCATION:
SUMMARY:Nayland Primary
DTSTAMP:19691231T120000Z
ORGANIZER;CN=Te_Hora_Admin:MAILTO:billy@ngatikuia.iwi.nz
DTSTART;TZID=Pacific/Auckland:19691231T120000Z
DTEND;TZID=Pacific/Auckland:19700101T120000
URL;VALUE=URI:http://www.tehoramarae.co.nz/my-calendar/
DESCRIPTION:N 
CATEGORIES:General
X-FUNAMBOL-ALLDAY: 1
X-MICROSOFT-CDO-ALLDAYEVENT: TRUE

END:VEVENT
BEGIN:VEVENT
UID:160-144
LOCATION:
SUMMARY:Blenheim Kura
DTSTAMP:20200330T210000Z
ORGANIZER;CN=Te_Hora_Admin:MAILTO:billy@ngatikuia.iwi.nz
DTSTART;TZID=Pacific/Auckland:20200330T210000Z
DTEND;TZID=Pacific/Auckland:20200331T013000Z
URL;VALUE=URI:http://www.tehoramarae.co.nz/my-calendar/
DESCRIPTION:Noho MaraeNumbers: 90Contact: Denyse Healy 
CATEGORIES:General
END:VEVENT
BEGIN:VEVENT
UID:159-143
LOCATION:
SUMMARY:Kaitiaki Advisory Group
DTSTAMP:20200609T210000Z
ORGANIZER;CN=Te_Hora_Admin:MAILTO:billy@ngatikuia.iwi.nz
DTSTART;TZID=Pacific/Auckland:20200609T210000Z
DTEND;TZID=Pacific/Auckland:20200610T030000Z
URL;VALUE=URI:http://www.tehoramarae.co.nz/my-calendar/
DESCRIPTION:HuiNumbers: 12Contact: Lea Hemi 
CATEGORIES:General
END:VEVENT
BEGIN:VEVENT
UID:158-142
LOCATION:
SUMMARY:Matike Mai
DTSTAMP:20200911T210000Z
ORGANIZER;CN=Te_Hora_Admin:MAILTO:billy@ngatikuia.iwi.nz
DTSTART;TZID=Pacific/Auckland:20200911T210000Z
DTEND;TZID=Pacific/Auckland:20200913T003000Z
URL;VALUE=URI:http://www.tehoramarae.co.nz/my-calendar/
DESCRIPTION:Noho MaraeNumbers: 30Contact: Keri Takao 
CATEGORIES:General
END:VEVENT
END:VCALENDAR